BEGIN:VCALENDAR
VERSION:2.0
PRODID:-//ChamberMaster//Event Calendar 2.0//EN
METHOD:PUBLISH
X-PUBLISHED-TTL:P3D
REFRESH-INTERVAL:P3D
CALSCALE:GREGORIAN
BEGIN:VEVENT
DTSTART:20260604T200000Z
DTEND:20260604T220000Z
X-MICROSOFT-CDO-ALLDAYEVENT:FALSE
SUMMARY:Ribbon Cutting - Tips and Toes
DESCRIPTION:Join new Chamber Member Tips and Toes for their Grand Opening and Ribbon Cutting! Enjoy a tour\, light refreshments and door prizes.
X-ALT-DESC;FMTTYPE=text/html:Join new Chamber Member Tips and Toes for their Grand Opening and Ribbon Cutting! Enjoy a tour\, light refreshments and door prizes.
LOCATION:2201 Main Street Chester\, MD 21619
UID:e.2846.4179
SEQUENCE:3
DTSTAMP:20260424T074009Z
URL:https://business.qacchamber.com/events/details/ribbon-cutting-tips-and-toes-4179
END:VEVENT

END:VCALENDAR
