BEGIN:VCALENDAR
VERSION:2.0
PRODID:-//ChamberMaster//Event Calendar 2.0//EN
METHOD:PUBLISH
X-PUBLISHED-TTL:P3D
REFRESH-INTERVAL:P3D
CALSCALE:GREGORIAN
BEGIN:VEVENT
DTSTART:20230504T200000Z
DTEND:20230504T213000Z
X-MICROSOFT-CDO-ALLDAYEVENT:FALSE
SUMMARY:Ribbon Cutting - Easton Dermatology
DESCRIPTION:Join us and welcome Easton Dermatology Associates to the community!\n\nRefreshments will be provided
X-ALT-DESC;FMTTYPE=text/html:Join us and welcome Easton Dermatology Associates to the community!<br />\nRefreshments will be provided&nbsp\;&nbsp\;&nbsp\;&nbsp\;
LOCATION:411 Thompson Creek Road Stevensville\, MD
UID:e.2846.3855
SEQUENCE:3
DTSTAMP:20260422T204122Z
URL:https://business.qacchamber.com/events/details/ribbon-cutting-easton-dermatology-3855
END:VEVENT

END:VCALENDAR
