BEGIN:VCALENDAR
VERSION:2.0
PRODID:-//ChamberMaster//Event Calendar 2.0//EN
METHOD:PUBLISH
X-PUBLISHED-TTL:P3D
REFRESH-INTERVAL:P3D
CALSCALE:GREGORIAN
BEGIN:VEVENT
DTSTART:20241210T220000Z
DTEND:20241211T000000Z
X-MICROSOFT-CDO-ALLDAYEVENT:FALSE
SUMMARY:Holiday Business After Hours
DESCRIPTION:Join us for our Holiday Business After Hours at the beautiful Hyatt Place Kent Narrows.\n\nIt will be a fun filled evening with a cash bar\, appetizers\, games and prizes.
X-ALT-DESC;FMTTYPE=text/html:Join us for our Holiday Business After Hours at the beautiful Hyatt Place Kent Narrows.<br />\nIt will be a fun filled evening with a cash bar\, appetizers\, games and prizes.
LOCATION:Hyatt Place Kent Island Hotel and Marina 3028 Kent Narrow Way S Grasonville\, MD
UID:e.2846.4030
SEQUENCE:3
DTSTAMP:20260422T154127Z
URL:https://business.qacchamber.com/events/details/holiday-business-after-hours-4030
END:VEVENT

END:VCALENDAR
