BEGIN:VCALENDAR
VERSION:2.0
PRODID:-//ChamberMaster//Event Calendar 2.0//EN
METHOD:PUBLISH
X-PUBLISHED-TTL:P3D
REFRESH-INTERVAL:P3D
CALSCALE:GREGORIAN
BEGIN:VEVENT
DTSTART;VALUE=DATE:20240920
DTEND;VALUE=DATE:20240921
TRANSP:TRANSPARENT
X-MICROSOFT-CDO-ALLDAYEVENT:TRUE
SUMMARY:Haven Ministries - Annual Golf Tournament
DESCRIPTION:Enjoy a great day of golf while supporting Haven Ministries to provide HOPE through Shelter\, Clothing\, Food and Support! ALL Golf packages include: Green fees\, cart rentals\, breakfast\, lunch\, awards dinner\, and unlimited beverages on the course all day.  Sponsorships & Greens Fees available thru August 23rd!!
X-ALT-DESC;FMTTYPE=text/html:Enjoy a great day of golf while supporting Haven Ministries to provide&nbsp\;HOPE&nbsp\;through Shelter\, Clothing\, Food and Support! ALL&nbsp\;Golf packages include: Green fees\, cart rentals\, breakfast\, lunch\, awards dinner\, and unlimited beverages on the course all day.&nbsp\; Sponsorships&nbsp\;&amp\; Greens Fees available thru August 23rd!!
LOCATION:Prospect Bay Country club
UID:e.2846.3977
SEQUENCE:3
DTSTAMP:20260423T164041Z
URL:https://business.qacchamber.com/events/details/haven-ministries-annual-golf-tournament-3977
END:VEVENT

END:VCALENDAR
