BEGIN:VCALENDAR
VERSION:2.0
PRODID:-//ChamberMaster//Event Calendar 2.0//EN
METHOD:PUBLISH
X-PUBLISHED-TTL:P3D
REFRESH-INTERVAL:P3D
CALSCALE:GREGORIAN
BEGIN:VEVENT
DTSTART:20260528T120000Z
DTEND:20260528T133000Z
X-MICROSOFT-CDO-ALLDAYEVENT:FALSE
SUMMARY:Coffee Connections - May
DESCRIPTION:Join us for a morning of networking and inspiration!\n\nEnjoy fresh coffee\, delicious pastries\, and meaningful conversations.\n\n\n\nSpecial Guest Speaker and Sponsor:\n\nTricia Wilson with Wilson Realty and Staging\n\n\n\nFormat:\n\n	\n	\n		Welcome coffee & introductions\n		Short keynote speaker (10 15 mins)\n		Structured networking activity\n		Closing remarks & exchange of contact info \n	\n	\n\nSeating is limited
X-ALT-DESC;FMTTYPE=text/html:<span style="font-size:14px\;"><strong>Join us for a morning of networking and inspiration!</strong><br />\nEnjoy fresh coffee\, delicious pastries\, and meaningful conversations.<br />\n<br />\n<strong>Special Guest Speaker and Sponsor:</strong><br />\n<i>Tricia Wilson with Wilson Realty and Staging</i><br />\n<br />\nFormat:</span>\n<ul>\n	<li>\n	<ul>\n		<li><span style="font-size:14px\;"><span class="a_GcMg font-feature-liga-off font-feature-clig-off font-feature-calt-off text-decoration-none text-strikethrough-none" style="color: rgba(0\,0\,0\,var(--O42jJQ\,1))\; caret-color: rgb(0\, 0\, 0)\; --Ys-XuQ: none\; font-kerning: none\;">Welcome coffee &amp\; introductions</span></span></li>\n		<li><span style="font-size:14px\;"><span class="a_GcMg font-feature-liga-off font-feature-clig-off font-feature-calt-off text-decoration-none text-strikethrough-none" style="color: rgba(0\,0\,0\,var(--O42jJQ\,1))\; caret-color: rgb(0\, 0\, 0)\; --Ys-XuQ: none\; font-kerning: none\;">Short keynote speaker (10&ndash\;15 mins)</span></span></li>\n		<li><span style="font-size:14px\;"><span class="a_GcMg font-feature-liga-off font-feature-clig-off font-feature-calt-off text-decoration-none text-strikethrough-none" style="color: rgba(0\,0\,0\,var(--O42jJQ\,1))\; caret-color: rgb(0\, 0\, 0)\; --Ys-XuQ: none\; font-kerning: none\;">Structured networking activity</span></span></li>\n		<li><span style="font-size:14px\;"><span class="a_GcMg font-feature-liga-off font-feature-clig-off font-feature-calt-off text-decoration-none text-strikethrough-none" style="color: rgba(0\,0\,0\,var(--O42jJQ\,1))\; caret-color: rgb(0\, 0\, 0)\; --Ys-XuQ: none\; font-kerning: none\;">Closing remarks &amp\; exchange of contact info </span></span></li>\n	</ul>\n	</li>\n</ul>\n<span style="font-size:14px\;"><strong>Seating is limited</strong></span><br />\n&nbsp\;
LOCATION:Holiday Inn Express 1020 Kent Narrows Road Grasonville\, MD 21638
UID:e.2846.4178
SEQUENCE:3
DTSTAMP:20260424T045724Z
URL:https://business.qacchamber.com/events/details/coffee-connections-may-4178
END:VEVENT

END:VCALENDAR
