BEGIN:VCALENDAR
VERSION:2.0
PRODID:-//ChamberMaster//Event Calendar 2.0//EN
METHOD:PUBLISH
X-PUBLISHED-TTL:P3D
REFRESH-INTERVAL:P3D
CALSCALE:GREGORIAN
BEGIN:VEVENT
DTSTART:20230518T210000Z
DTEND:20230518T223000Z
X-MICROSOFT-CDO-ALLDAYEVENT:FALSE
SUMMARY:Business After Hours - May
DESCRIPTION:Join us for Networking and comradery at the Four Seasons Clubhouse\n\nFood and Beverages will be available
X-ALT-DESC;FMTTYPE=text/html:Join us for Networking and comradery at the Four Seasons Clubhouse<br />\nFood and Beverages will be available
LOCATION:Four Seasons Clubhouse Four Seasons Blvd Chester\, MD
UID:e.2846.3851
SEQUENCE:3
DTSTAMP:20260422T204327Z
URL:https://business.qacchamber.com/events/details/business-after-hours-may-3851
END:VEVENT

END:VCALENDAR
