BEGIN:VCALENDAR
VERSION:2.0
PRODID:-//ChamberMaster//Event Calendar 2.0//EN
METHOD:PUBLISH
X-PUBLISHED-TTL:P3D
REFRESH-INTERVAL:P3D
CALSCALE:GREGORIAN
BEGIN:VEVENT
DTSTART:20230511T120000Z
DTEND:20230511T190000Z
X-MICROSOFT-CDO-ALLDAYEVENT:FALSE
SUMMARY:36th Annual Golf Tournament
DESCRIPTION:Thursday\,  May 11th\, 2023\n\nQueenstown Harbor Golf Links\n\nRegistration 8:15am\n\nCoffee & Donuts 8:15 - 8:55am\n\nShot Gun Start 9:00am\n\nFour Man Scramble Format\n\nTournament Limited to 36 Foursomes\n\n \n\nRegistration Package Includes:\n\nGreens Fees\, Carts\, \n\nFood & Drink\n\n \n\nAwards:\n\nLow Gross Team\n\nMen's & Ladies Longest Drive Prizes\n\nPrizes for  Closest to the Pin\n\nLots of Door Prizes
X-ALT-DESC;FMTTYPE=text/html:<span style="font-weight:bold\;language:en-US\;"><span style="color:#115299\;"><span style="font-family:myriad pro\;"><span style="font-size:11.0pt\;">Thursday\,&nbsp\; May 11th\, 2023</span></span></span></span><br>\n<span style="font-weight:bold\;language:en-US\;"><span style="color:#115299\;"><span style="font-family:myriad pro\;"><span style="font-size:11.0pt\;">Queenstown Harbor Golf Links</span></span></span></span><br>\n<span style="font-weight:bold\;language:en-US\;"><span style="color:#115299\;"><span style="font-family:myriad pro\;"><span style="font-size:11.0pt\;">Registration 8:15am</span></span></span></span><br>\n<span style="font-weight:bold\;language:en-US\;"><span style="color:#115299\;"><span style="font-family:myriad pro\;"><span style="font-size:11.0pt\;">Coffee &amp\; Donuts 8:15 - 8:55am</span></span></span></span><br>\n<span style="font-weight:bold\;language:en-US\;"><span style="color:#115299\;"><span style="font-family:myriad pro\;"><span style="font-size:11.0pt\;">Shot Gun Start 9:00am</span></span></span></span><br>\n<span style="font-weight:bold\;language:en-US\;"><span style="color:#115299\;"><span style="font-family:myriad pro\;"><span style="font-size:11.0pt\;">Four Man Scramble Format</span></span></span></span><br>\n<span style="font-weight:bold\;language:en-US\;"><span style="color:#115299\;"><span style="font-family:myriad pro\;"><span style="font-size:11.0pt\;">Tournament Limited to 36 Foursomes</span></span></span></span><br>\n&nbsp\;<br>\n<span style="font-weight:bold\;language:en-US\;"><span style="color:#115299\;"><span style="font-family:myriad pro\;"><span style="font-size:11.0pt\;">Registration Package Includes:</span></span></span></span><br>\n<span style="font-weight:bold\;language:en-US\;"><span style="color:#115299\;"><span style="font-family:myriad pro\;"><span style="font-size:11.0pt\;">Greens Fees\, Carts\, </span></span></span></span><br>\n<span style="font-weight:bold\;language:en-US\;"><span style="color:#115299\;"><span style="font-family:myriad pro\;"><span style="font-size:11.0pt\;">Food &amp\; Drink</span></span></span></span><br>\n&nbsp\;<br>\n<span style="font-weight:bold\;language:en-US\;"><span style="color:#115299\;"><span style="font-family:myriad pro\;"><span style="font-size:11.0pt\;">Awards:</span></span></span></span><br>\n<span style="font-weight:bold\;language:en-US\;"><span style="color:#115299\;"><span style="font-family:myriad pro\;"><span style="font-size:11.0pt\;">Low Gross Team</span></span></span></span><br>\n<span style="font-weight:bold\;language:en-US\;"><span style="color:#115299\;"><span style="font-family:myriad pro\;"><span style="font-size:11.0pt\;">Men's &amp\; Ladies Longest Drive Prizes</span></span></span></span><br>\n<span style="font-weight:bold\;language:en-US\;"><span style="color:#115299\;"><span style="font-family:myriad pro\;"><span style="font-size:11.0pt\;">Prizes for&nbsp\; Closest to the Pin</span></span></span></span><br>\n<span style="font-weight:bold\;language:en-US\;"><span style="color:#115299\;"><span style="font-family:myriad pro\;"><span style="font-size:11.0pt\;">Lots of Door Prizes</span></span></span></span><br>\n&nbsp\;
LOCATION:Queenstown Harbor Golf Links
UID:e.2846.3815
SEQUENCE:3
DTSTAMP:20260422T204926Z
URL:https://business.qacchamber.com/events/details/36th-annual-golf-tournament-3815
END:VEVENT

END:VCALENDAR
